BEGIN:VCALENDAR
VERSION:2.0
PRODID:-//F9A - Drone Soccer - ECPv6.11.2.1//NONSGML v1.0//EN
CALSCALE:GREGORIAN
METHOD:PUBLISH
X-ORIGINAL-URL:https://dronesoccer.sport.ffam.asso.fr
X-WR-CALDESC:Évènements pour F9A - Drone Soccer
REFRESH-INTERVAL;VALUE=DURATION:PT1H
X-Robots-Tag:noindex
X-PUBLISHED-TTL:PT1H
BEGIN:VTIMEZONE
TZID:Europe/Paris
BEGIN:DAYLIGHT
TZOFFSETFROM:+0100
TZOFFSETTO:+0200
TZNAME:CEST
DTSTART:20250330T010000
END:DAYLIGHT
BEGIN:STANDARD
TZOFFSETFROM:+0200
TZOFFSETTO:+0100
TZNAME:CET
DTSTART:20251026T010000
END:STANDARD
END:VTIMEZONE
BEGIN:VEVENT
DTSTART;TZID=Europe/Paris:20251004T080000
DTEND;TZID=Europe/Paris:20251004T170000
DTSTAMP:20260422T091942
CREATED:20250723T040534Z
LAST-MODIFIED:20250904T150318Z
UID:748-1759564800-1759597200@dronesoccer.sport.ffam.asso.fr
SUMMARY:TOURNOI DRONE SOCCER TEILLE
DESCRIPTION:Un rendez- vous exceptionnel à ne pas manquer.Le 1er tournoi en équipe pour des épreuves de Drone soccer dans la Bretagne et les Pays de la Loire.Avec la présence des meilleurs pilotes de France sélectionnés par la FFAM pour représenter officiellement la France au 1er Championnat du Monde de Drone Soccer\, à Shanghai en novembre 2025Ouvert au public car toutes les épreuves se déroulent dans une arène sécurisée.Les clubs de la région seront présents avec 2 ou 3 équipes.Il y aura une prolongation le dimanche 5 octobre par une journée d’initiation et de découverte pour tous pilotes ou visiteurs.
URL:https://dronesoccer.sport.ffam.asso.fr/event/tournoi-drone-soccer-teille/
LOCATION:SALLE DE SPORT CENTRE BOURG PARKING SALLE POLYVALENTE 44440 TEILLÉ\, SALLE DE SPORT CENTRE BOURG PARKING SALLE POLYVALENTE\, TEILLÉ\, 44440\, France
CATEGORIES:compétition
ORGANIZER;CN="Teill%C3%A9":MAILTO:lambertandre44@gmail.com
END:VEVENT
END:VCALENDAR